BEGIN:VCALENDAR
VERSION:2.0
PRODID:-//https://meine-christliche-veranstaltung.de///NONSGML kigkonsult.se iCalcreator 2.10.15//
METHOD:PUBLISH
BEGIN:VEVENT
UID:20260422T101305CEST-56958tl0fl@https://meine-christliche-veranstaltung.
 de/
DTSTAMP:20260422T081305Z
DESCRIPTION:Flaggentanz Seminar für Fortgeschrittene\nIn diesen Seminaren e
 rhalten Anfänger und Fortgeschrittene ein intensives Flaggentraining mit v
 iel Praxis & biblischem Input. Es gibt Anleitung\, wie du alleine und in E
 inheit zusammen mit anderen in Anbetungs- und Gebetszeiten fließen kannst.
  Das Seminar vom 13. bis 15. Februar richtet sich an absolute Anfänger und
  alle\, deren Bewegungsmuster & Koordination selbst bei einfachen Bewegung
 sabläufen nicht funktionieren. \nDas Fortgeschrittenen-Seminar ist NUR für
  Teilnehmende\, die bereits regelmäßig mit Flaggen tanzen\, aber noch nich
 t alle Muster beherrschen. Es ist auch für Leiter und/oder ganze Gruppen g
 edacht\, um sie weiter in ihrer tanzenden Berufung zuzurüsten. Interessier
 t?\n \nMelde dich für weitere Infos auf https://his-praise-art.com/ !\n \n
 \n https://meine-christliche-veranstaltung.de/index.php/ereignis/50-flagge
 ntanz-seminar-fuer-fortgeschrittene
DTSTART:20260424T000000Z
DTEND:20260426T184800Z
LOCATION:Father´s House for all Nations e.V.: FHN (Altenhohenau 12\, 83556 
 Griesstätt)
SUMMARY:Flaggentanz Seminar für Fortgeschrittene
URL:https://meine-christliche-veranstaltung.de/index.php/ereignis/50-flagge
 ntanz-seminar-fuer-fortgeschrittene
END:VEVENT
BEGIN:VEVENT
UID:20260422T101305CEST-5697w8zBJ1@https://meine-christliche-veranstaltung.
 de/
DTSTAMP:20260422T081305Z
DESCRIPTION:Historymaker-Gottesdienst   24. April 2026\n \n\nDatum: 24. Apr
 il 2026\nUhrzeit: 19:30 - 21:00\nOrt: ev. Kirche Pforzheim-Eutingen\n\n\n
 \n\nDu bist herzliche eingeladen zu einem Historymaker-Eventgottesdienst f
 ür jung und junggebliebene am Freitag\, den 24.04.2026 um 19.30 Uhr in der
  Evangelischen Kirche Pforzheim-Eutingen.\n\n\nhttps://www.historymaker.de
 /#veranstaltungen\nEvangelischen Kirche Pforzheim-Eutingen\nAdresse:  Witt
 umstr. 50\, 75181 Pforzheim (https://eki-eutingen.de/kontakt/)\n\nEvangeli
 sche Landeskirche in Baden\nEvangelische Pfarrgemeinde Eutingen\nWittumstr
 . 5075181 PforzheimTelefon: 07231-50063E-Mail: eutingen@kbz.ekiba.de\n\n  
 https://meine-christliche-veranstaltung.de/index.php/ereignis/68-historyma
 ker-gottesdienst-24-april-2026
DTSTART:20260424T193000Z
DTEND:20260424T210000Z
LOCATION:Evangelischen Kirche Pforzheim-Eutingen (Wittumstr. 50\, 75181 Pfo
 rzheim)
SUMMARY:Historymaker-Gottesdienst   24. April 2026
URL:https://meine-christliche-veranstaltung.de/index.php/ereignis/68-histor
 ymaker-gottesdienst-24-april-2026
END:VEVENT
BEGIN:VEVENT
UID:20260422T101305CEST-5699aNnKP5@https://meine-christliche-veranstaltung.
 de/
DTSTAMP:20260422T081305Z
DESCRIPTION:OUTREACH MAGDEBURG\n\n\n \n\n\n\n \n25.April '26\n\n\n14:00 - 1
 8:00 Uhr\nUlrichplatz\n \n\n\nmit\n\n\nDero Goi\nDero war Gründer und Säng
 er der blasphemischen Gruppe 'OOMPH'. 2020 fand er zu Jesus\, stieg aus se
 iner eigenen Band aus\, macht Musik für JESUS und erzählt sein spannendes 
 Zeugnis!\n\n\nEva\nEva ist leidenschaftliche Anbeterin und wird uns in Lob
 preis leiten.\n\n\nNicole + Noela\nSie werden uns mit in fröhlichen Lobpre
 is mit afrikanischen Ambiente hineinnehmen\n\n\n Viele Geschwister\, die i
 hr Kurzzeugnis geben werden\n\n\nBüchertisch\, Luftballons\, Flaggentänzer
  u.v.m.\n\n\nSEI DABEI!!!\n\n\n \nWir wollen gemeinsam als Kinder Gottes d
 en HERRN mitten in Magdeburg verherrlichen\, seinen Namen bekannt machen\,
  von seinen Wundern erzählen\, Menschen zu IHM einladen und für sie beten!
 !!!!\n\n\n \nAlle Infos:\nhttps://www.jesusinthestreets.de/magdeburg/\n\n
 \n \n https://meine-christliche-veranstaltung.de/index.php/ereignis/101-ou
 treach-magdeburg
DTSTART:20260425T140000Z
DTEND:20260425T180000Z
LOCATION:MAGDEBURG - Ulrichplatz (Ulrichplatz\, 39104\, Magdeburg\, Altstad
 t\, Sachsen-Anhalt)
SUMMARY:OUTREACH MAGDEBURG
URL:https://meine-christliche-veranstaltung.de/index.php/ereignis/101-outre
 ach-magdeburg
END:VEVENT
BEGIN:VEVENT
UID:20260422T101305CEST-5702R71FRp@https://meine-christliche-veranstaltung.
 de/
DTSTAMP:20260422T081305Z
DESCRIPTION:Evangelisten gesucht! Ausbildung in der SOE Location Berlin\nTe
 rmin13. April – 24. Mai 2026\nUnterrichtsgebühr: 3.999 €\nPraxiseinführung
  (6 Wochen)\nAnmeldung über:\nhttps://www.cfan.eu/de/school-of-evangelism/
 \nchool of Evangelism\nEvangelisten gesucht!\nEinschreibung für die School
  of Evangelism ist jetzt möglich. Bewirb dich noch heute für 2026!\nJetzt 
 bewerben Kostenloses erstes Training Die School of Evangelism (SOE) von Ch
 ristus für alle Nationen zielt darauf ab\, authentische Vollblutevangelist
 en für die größte Ernte der Weltgeschichte zu trainieren und auszurüsten. 
 Wir sehen mit eigenen Augen\, wie diese Ernte auf der ganzen Welt eingefah
 ren wird. Gleichzeitig hat uns der Herr einen sehr deutlichen Auftrag erte
 ilt: „Europa muss gerettet werden!“\n \n \n \n https://meine-christliche-v
 eranstaltung.de/index.php/ereignis/113-evangelisten-gesucht-ausbildung-in-
 der-soe-location-berlin
DTSTART:20260413T070000Z
DTEND:20260524T133000Z
LOCATION:SOE Location Berlin (Berlin)
SUMMARY:Evangelisten gesucht! Ausbildung in der SOE Location Berlin
URL:https://meine-christliche-veranstaltung.de/index.php/ereignis/113-evang
 elisten-gesucht-ausbildung-in-der-soe-location-berlin
END:VEVENT
BEGIN:VEVENT
UID:20260422T101305CEST-5704V8LVU4@https://meine-christliche-veranstaltung.
 de/
DTSTAMP:20260422T081305Z
DESCRIPTION:GEISTREICH-Konferenz 2026\n24.–26. April 2026 - SteingauZentrum
  Kirchheim/Teck\n\n\nKonferenzort\nEFG Kirchheim/TeckSteingauZentrumSteing
 austraße 2873230 Kirchheim unter Teck\n\n\n\n\n\nProgramm\nFreitag\, 24. A
 pril 2026Ab 17:00 Check in – Get together 19:30 „Die Autorität der Bibel: 
 Gottes Wort ist unangepasst und unerschütterlich“Waldemar Justus\nSamstag\
 , 25. April 20269:30 Lobpreis10:00 „Die Kraft der Bibel: Wie Gottes Wort s
 eine Wirkung entfaltet“ Waldemar Justus\n10:45–11:45 Pause11:45 Talkrunde 
 „Bedeutung der Gemeinde Jesu für die Gesellschaft“mit Bürgermeister Achim 
 Rapp aus Kirchheim/Teck Leitung: Stefan Vatter und Günter Öhrlich\n12:30 M
 ittagspauseYoungLeaders-Special: Q&A mit Johnny Nimmo (für alle unter 40 J
 .)14:30–16:00 Seminare16:00 Kaffeepause\n17:00–18:00 Hörendes Gebet18:00 A
 bendpause\n19:30 „Komm Heiliger Geist. Die Kraft des Heiligen Geistes befä
 higt uns\, zu sein und zu tun\, wozu uns Jesus beauftragt“Johnny Nimmo\nSo
 nntag\, 26. April 10:00–11:30 Gottesdienst: „Hoffnungsträger in herausford
 ernden Zeiten“Stefan Vatter\, Günter Öhrlichanschließend Stehkaffee\n12:00
  Ende und Abreise\n\n\n\n\n\n \nWeitere Infos & Anmeldung:\nhttps://www.ge
 meindeerneuerung.de/geistreich-26/\n \n\n\n  https://meine-christliche-ver
 anstaltung.de/index.php/ereignis/114-geistreich-konferenz-2026-24--26-apri
 l-2026-steingauzentrum-kirchheim-teck
DTSTART:20260424T150000Z
DTEND:20260426T100000Z
LOCATION:EFG Kirchheim/Teck - SteingauZentrum (Steingaustraße 28\, 73230\, 
 Kirchheim unter Teck\, Baden-Württemberg)
SUMMARY: GEISTREICH-Konferenz 2026 -  24.–26. April 2026 - SteingauZentrum 
 Kirchheim/Teck
URL:https://meine-christliche-veranstaltung.de/index.php/ereignis/114-geist
 reich-konferenz-2026-24--26-april-2026-steingauzentrum-kirchheim-teck
END:VEVENT
BEGIN:VEVENT
UID:20260422T101305CEST-5706TskiIT@https://meine-christliche-veranstaltung.
 de/
DTSTAMP:20260422T081305Z
DESCRIPTION:Frauenkonferenz - ERWECKUNG IM GEIST - Kongresszentrum 70806 Ko
 rnwestheim\nERWECKUNG IM GEIST\nFrauenkonferenz\n \nErweckung im Geist - F
 rauenkonferenz\n(bis 17.00 Uhr - ab 18:30 Worship mit MÄNNER und FRAUEN)\n
  \nErlebe\, wie Gott dich zu einer mutigen Frau im Glauben ruft! Entdecke 
 deine Berufung und deinen konkreten Auftrag in Christus. Erfahre mehr über
  das Feuer des Heiligen Geistes und als Folge daraus im Gehorsam zu handel
 n\, damit du Schritt für Schritt in Gottes Bestimmung wachsen kannst. Sei 
 Licht und Salz in deiner Umgebung und nehme deinen Platz ein\, um Gottes E
 rweckung sichtbar zu machen.\nSei du mit dabei!\nAnmeldung über:\nhttps://
 www.cvents.eu/de/erweckung-im-geist-frauenkonferenz-kornwestheim-25042026/
 #promoter\nVeranstaltungsort:\nDas K - Kultur- und KongresszentrumStuttgar
 ter Straße 65DE-70806 Kornwestheim\n \nVeranstalter:\nIssachar Ministries 
 e.V.\nHandwerkerhof 17\n74076 Heilbronn\nTelefon: +49 176 55295952\nE-Mail
 : info@i-m.life\n \n https://meine-christliche-veranstaltung.de/index.php/
 ereignis/118-frauenkonferenz-erweckung-im-geist-kongresszentrum-70806-korn
 westheim
DTSTART:20260425T070000Z
DTEND:20260425T183000Z
LOCATION:Das Kultur- und Kongresszentrum - 70806 Kornwestheim (Stuttgarter 
 Straße 65\, 70806\, Kornwestheim\, Baden-Württemberg)
SUMMARY:Frauenkonferenz - ERWECKUNG IM GEIST - Kongresszentrum 70806 Kornwe
 stheim
URL:https://meine-christliche-veranstaltung.de/index.php/ereignis/118-fraue
 nkonferenz-erweckung-im-geist-kongresszentrum-70806-kornwestheim
END:VEVENT
BEGIN:VEVENT
UID:20260422T101305CEST-57087eDupK@https://meine-christliche-veranstaltung.
 de/
DTSTAMP:20260422T081305Z
DESCRIPTION:Gottesdienst in Stralsund\nOrt siehe Flyer\nVeranstalter:\nFath
 er’s House ChurchGemeinsam für Mecklenburg-Vorpommern e.V.Kubitzer Ring 91
 8435 Stralsund\nE-Mail: info@fhc-stralsund.de\nVereinssitz: Stralsund | VR
  10526 | AG Stralsund | St.Nr. 082/141/05986\nVertretungsberechtigter Vors
 tandUdo RichterTel. (03831) 30 71 271udo.richter@fhc-stralsund.de\n https:
 //meine-christliche-veranstaltung.de/index.php/ereignis/129-gottesdienst-i
 n-stralsund
DTSTART:20260301T093000Z
DTEND:20260301T113000Z
LOCATION:Auferstehungskirche - Nachbarschaftszentrum Grünhufe (Lindenallee 
 35\,  18437 Stralsund )
SUMMARY:Gottesdienst in Stralsund
URL:https://meine-christliche-veranstaltung.de/index.php/ereignis/129-gotte
 sdienst-in-stralsund
END:VEVENT
BEGIN:VEVENT
UID:20260422T101305CEST-5710mtTlNJ@https://meine-christliche-veranstaltung.
 de/
DTSTAMP:20260422T081305Z
DESCRIPTION:metanoia Jugendkonferenz 2026\n \n24.-26. April 2026\nAm Bauhof
  14A 32657 Lemgo\nWeitere Infos und Anmeldung über:\nmetanoia - die Veränd
 erung des Herzens\n\n https://meine-christliche-veranstaltung.de/index.php
 /ereignis/166-metanoia-jugendkonferenz-2026
DTSTART:20260423T225300Z
DTEND:20260425T225300Z
LOCATION:Ev. Freikirche Mennonitische Brüdergemeinde (Am Bauhof 14A\, 32657
 \, Lemgo\, Nordrhein-Westfalen)
SUMMARY:metanoia Jugendkonferenz 2026
URL:https://meine-christliche-veranstaltung.de/index.php/ereignis/166-metan
 oia-jugendkonferenz-2026
END:VEVENT
BEGIN:VEVENT
UID:20260422T101305CEST-5711VPECj9@https://meine-christliche-veranstaltung.
 de/
DTSTAMP:20260422T081305Z
DESCRIPTION:30 Jahre Süddeutsche Israelkonferenz\nBereits seit 30 Jahren ve
 ranstaltet der aki die Süddeutsche Israekonferenz (SILK)\, bei der wertvol
 le Impulse aus Bibel\, Geschichte und Zeitgeschehen in Beziehung zu Israel
  weitergegeben werden.\nAuch in diesem Jahr werden wieder Sprecher aus Isr
 ael und Deutschland zu Gast sein und -  gemäß dem Leitmotiv der Konferenz 
 - Gottes Treue zu seinem Volk beleuchten. Die SILK bietet außerdem Raum fü
 r Austausch\, Gebet und neue Perspektiven.\nDazu laden wir sie herzlich am
  Samstag\, den 25. April 2026 von 10 - 17 Uhr ins MSZ nach Bad Liebenzell 
 ein. Für das leibliche Wohl ist gesorgt.\nWeitere Infos & Anmeldung:\nhttp
 s://aki-israel.de/wir-lehren/israelkonferenz\n\n \n\n \n \n \n  https://me
 ine-christliche-veranstaltung.de/index.php/ereignis/170-30-jahre-sueddeuts
 che-israelkonferenz
DTSTART:20260425T070000Z
DTEND:20260425T150000Z
LOCATION:Liebenzeller Mission gemeinnützige GmbH (Liobastraße 8\, 75378\, B
 ad Liebenzell\, Baden-Württemberg)
SUMMARY:30 Jahre Süddeutsche Israelkonferenz
URL:https://meine-christliche-veranstaltung.de/index.php/ereignis/170-30-ja
 hre-sueddeutsche-israelkonferenz
END:VEVENT
BEGIN:VEVENT
UID:20260422T101305CEST-57139f9wTN@https://meine-christliche-veranstaltung.
 de/
DTSTAMP:20260422T081305Z
DESCRIPTION:TÄGLICHES MORGENGEBET\nJeden Tag | 06:00 Uhr | Zoom\nWir treffe
 n uns jeden Morgen im Gebet – und erleben bereits unglaubliche Zeugnisse!
 \n🔥 Durchbrüche\n🔥 Heilungen\n🔥 veränderte Leben\nStarte deinen Tag nicht 
 ohne Gott.\nEin Gebet kann alles verändern. \n UNSERE MISSION\nWir glauben
  an ein Deutschland\, das im Gebet brennt.\n👉 Ein Deutschland\, das Gott s
 ucht\n👉 Ein Deutschland\, das verändert wird\nUnd vielleicht beginnt es ge
 nau mit dir.\nHier einloggen:\nhttps://us06web.zoom.us/j/88921965477?pwd=u
 X3rZhudOqMEVVm9TMKFPwCc7lM7Qt.1\nEIN AUFRUF ZUM GEBET 🇩🇪 DEUTSCHLAND ERWAC
 HE 🇩🇪\n\n\n  https://meine-christliche-veranstaltung.de/index.php/ereignis
 /173-taegliches-morgengebet-jeden-tag-06-00-uhr-zoom
DTSTART:20260321T050000Z
DTEND:20261231T060000Z
LOCATION:Online Sitzung Youtube / Zoom ()
SUMMARY:TÄGLICHES MORGENGEBET  Jeden Tag | 06:00 Uhr | Zoom
URL:https://meine-christliche-veranstaltung.de/index.php/ereignis/173-taegl
 iches-morgengebet-jeden-tag-06-00-uhr-zoom
END:VEVENT
END:VCALENDAR
